BEGIN:VCALENDAR
VERSION:2.0
PRODID:-//hacksw/handcal//NONSGML v1.0//EN
BEGIN:VEVENT
DTSTAMP:20150314T173000Z
DTSTART:20150314T173000Z
DTEND:20150314T200000Z

SUMMARY:2015 Atlantic 10 Basketball Championship
DESCRIPTION:  Five days of heart-stopping basketball will take up residence in Barclays Center from March 11 to 15 with the return of the Atlantic 10 Men&#39;s Basketball Championship. Single session tickets are available to watch as the conference&#39;s 14 teams battle it out in Brooklyn for a guaranteed spot in the NCAA Tournament.   Be there live to see the highlight-reel dunks, game-winning buzzer beaters, and the crowning of this year&#39;s conference champion.View Bracket Scheduleadroll_adv_id = "4OSUPK2YDJCG3GUHV6ZPNX";adroll_pix_id = "KP4DRZHCPRH4JJIAZMWWTG";(function () {var oldonload = window.onload;window.onload = function(){   __adroll_loaded=true;   var scr = document.createElement("script");   var host = (("https:" == document.location.protocol) ? "https://s.adroll.com" : "http://a.adroll.com");   scr.setAttribute('async', 'true');   scr.type = "text/javascript";   scr.src = host + "/j/roundtrip.js";   ((document.getElementsByTagName('head') || [null])[0] ||    document.getElementsByTagName('script')[0].parentNode).appendChild(scr);   if(oldonload){oldonload()}};}());If purchasing 10+ tickets take advantage of group pricing, call 855.GROUP.BK or email groups@barclayscenter.comGroup Pricing FlyerGroup Tickets Order FormText-to-Win Sweepstakes Rules Here
END:VEVENT
END:VCALENDAR