BEGIN:VCALENDAR
VERSION:2.0
PRODID:-//hacksw/handcal//NONSGML v1.0//EN
BEGIN:VEVENT
DTSTAMP:20230713T000000Z
DTSTART:20230713T000000Z
DTEND:20230713T020000Z

SUMMARY:Alicia Keys
DESCRIPTION:Alicia Keys brings the Keys To The Summer Tour with Libianca to Brooklyn on July 12.
END:VEVENT
END:VCALENDAR