BEGIN:VCALENDAR
VERSION:2.0
PRODID:-//hacksw/handcal//NONSGML v1.0//EN
BEGIN:VEVENT
DTSTAMP:20130406T000000Z
DTSTART:20130406T000000Z
DTEND:20130406T030000Z

SUMMARY:Alicia Keys
DESCRIPTION:Alicia Keys, a fourteen-time Grammy®-winning singer, songwriter and producer, will perform at Barclays Center on Friday, April 5 at 8pm. The show is part of her upcoming 24-city North American tour in support of her new album GIRL ON FIRE. The “Set The World On Fire Tour” is slated to kick-off March 7 in Seattle, WA.Joining Keys on tour is rising R&B star Miguel who was recently nominated for five Grammy® Awards including Song of the Year, Best R&B Performance and Best Urban Contemporary Album. Miguel’s ubiquitous single, “Adorn,” recently reached #1 on Urban, Urban Adult and Rhythmic Radio.Tickets are on sale now and can be purchased via Ticketmaster by visiting www.barclayscenter.com or www.ticketmaster.com, or by calling 800-745-3000. Tickets are also available at the American Express Box Office at Barclays Center, located at 620 Atlantic Avenue in Brooklyn starting Saturday, Jan. 19.For more information, details and updates, visit: www.aliciakeys.com, www.facebook.com/aliciakeys or www.twitter.com/aliciakeys.  var ebVenueID = '1288';//
END:VEVENT
END:VCALENDAR