BEGIN:VCALENDAR
VERSION:2.0
PRODID:-//hacksw/handcal//NONSGML v1.0//EN
BEGIN:VEVENT
DTSTAMP:20131129T213000Z
DTSTART:20131129T213000Z
DTEND:20131130T000000Z

SUMMARY:Barclays Center Classic
DESCRIPTION:The extensive Barclays Center college basketball lineup continues in 2013 with matchups between Penn State vs. St. John’s and Ole Miss vs. GA Tech in the 2nd annual Barclays Center Classic men’s basketball tournament on November 29th. The championship and consolation games will be played the following day on Saturday, November 30th.Barclays Center Classic Match-upsFriday Nov. 29th -Game 1: Ole Miss vs. Georgia TechGame 2: St. John&#39;s vs. Penn StateSaturday Nov. 30th -Game 1: losersGame 2: winnersTickets for this event are on sale now and are available for purchase via Ticketmaster by visiting www.barclayscenter.com, www.ticketmaster.com, by calling 800-745-3000 or at the American Express Box Office at Barclays Center, located at 620 Atlantic Avenue. Group tickets are also available by calling 855-GROUP-BK.For information on individual suites Click Here or call 718.BK.SUITE (718.257.8483) to set up an appointment to meet with a suite representative. Student tickets available for purchase online in advance for members of tix4students.com. Click here to purchase. The Barclays Center Classic is sponsored by the Northeast Conference (NEC), an NCAA Division I athletic conference that features ten member institutions and 22 championship sports. To learn more about the NEC, please visit their official website at: northeastconference.org/ 
END:VEVENT
END:VCALENDAR