BEGIN:VCALENDAR
VERSION:2.0
PRODID:-//hacksw/handcal//NONSGML v1.0//EN
BEGIN:VEVENT
DTSTAMP:20170217T220000Z
DTSTART:20170217T220000Z
DTEND:20170218T000000Z

SUMMARY:Cancelled - Brooklyn Food & Wine
DESCRIPTION:The Brooklyn Food & Wine festival that was originally set for February 17 & 18 before being postponed, has officially been cancelled.Ticket refunds are available at your point of purchase. !function(f,b,e,v,n,t,s){if(f.fbq)return;n=f.fbq=function(){n.callMethod?n.callMethod.apply(n,arguments):n.queue.push(arguments)};if(!f._fbq)f._fbq=n;n.push=n;n.loaded=!0;n.version='2.0';n.queue=[];t=b.createElement(e);t.async=!0;t.src=v;s=b.getElementsByTagName(e)[0];s.parentNode.insertBefore(t,s)}(window,document,'script','//connect.facebook.net/en_US/fbevents.js');fbq('init', '1550279315302675');fbq('track', "PageView");fbq('track', 'Purchase', {value: value,currency: currency,ticket_type: ticket_type,event_name: event_name,event_date: event_date,event_time: event_time',event_id: event_id,artist_name: artist_name,artist_id: artist_id,venue_name: venue_name,venue_id: venue_id});
END:VEVENT
END:VCALENDAR