BEGIN:VCALENDAR
VERSION:2.0
PRODID:-//hacksw/handcal//NONSGML v1.0//EN
BEGIN:VEVENT
DTSTAMP:20181216T200000Z
DTSTART:20181216T200000Z
DTEND:20181216T220000Z

SUMMARY:Brooklyn Nets vs. Atlanta Hawks
DESCRIPTION:The Brooklyn Nets take on the Atlanta Hawks on Sunday, December 16.Parm, an acclaimed casual Italian restaurant, is the perfect place to start your Barclays Center experience. Make your dinner reservation for Parm by calling 917.618.6340 or online through RESERVE.For information on individual suites, please call 718.BK.SUITE.For hotel information, please visit New York Marriott at the Brooklyn Bridge. For special rates, check “corporate/promotional code” and then enter W85.
END:VEVENT
END:VCALENDAR