BEGIN:VCALENDAR
VERSION:2.0
PRODID:-//hacksw/handcal//NONSGML v1.0//EN
BEGIN:VEVENT
DTSTAMP:20240301T003000Z
DTSTART:20240301T003000Z
DTEND:20240301T023000Z

SUMMARY:Brooklyn Nets vs. Atlanta Hawks
DESCRIPTION:The Brooklyn Nets take on the Atlanta Hawks on Thursday, February 29.
END:VEVENT
END:VCALENDAR