BEGIN:VCALENDAR
VERSION:2.0
PRODID:-//hacksw/handcal//NONSGML v1.0//EN
BEGIN:VEVENT
DTSTAMP:20251119T003000Z
DTSTART:20251119T003000Z
DTEND:20251119T023000Z

SUMMARY:Brooklyn Nets vs. Boston Celtics
DESCRIPTION:The Brooklyn Nets take on the Boston Celtics on Tuesday, November 18.
END:VEVENT
END:VCALENDAR