BEGIN:VCALENDAR
VERSION:2.0
PRODID:-//hacksw/handcal//NONSGML v1.0//EN
BEGIN:VEVENT
DTSTAMP:20260124T003000Z
DTSTART:20260124T003000Z
DTEND:20260124T023000Z

SUMMARY:Brooklyn Nets vs. Boston Celtics
DESCRIPTION:The Brooklyn Nets take on the Boston Celtics on Friday, January 23.
END:VEVENT
END:VCALENDAR