BEGIN:VCALENDAR
VERSION:2.0
PRODID:-//hacksw/handcal//NONSGML v1.0//EN
BEGIN:VEVENT
DTSTAMP:20240209T003000Z
DTSTART:20240209T003000Z
DTEND:20240209T023000Z

SUMMARY:Brooklyn Nets vs. Cleveland Cavaliers
DESCRIPTION:The Brooklyn Nets take on the Cleveland Cavaliers on Thursday, February 8.
END:VEVENT
END:VCALENDAR