BEGIN:VCALENDAR
VERSION:2.0
PRODID:-//hacksw/handcal//NONSGML v1.0//EN
BEGIN:VEVENT
DTSTAMP:20140328T233000Z
DTSTART:20140328T233000Z
DTEND:20140329T023000Z

SUMMARY:Brooklyn Nets vs. Cleveland Cavaliers
DESCRIPTION:Make your dinner reservations today by calling 917.618.6340 or emailing 4040club@Levyrestaurants.com.
END:VEVENT
END:VCALENDAR