BEGIN:VCALENDAR
VERSION:2.0
PRODID:-//hacksw/handcal//NONSGML v1.0//EN
BEGIN:VEVENT
DTSTAMP:20240207T003000Z
DTSTART:20240207T003000Z
DTEND:20240207T023000Z

SUMMARY:Brooklyn Nets vs. Dallas Mavericks
DESCRIPTION:The Brooklyn Nets take on the Dallas Mavericks on Tuesday, February 6.
END:VEVENT
END:VCALENDAR