BEGIN:VCALENDAR
VERSION:2.0
PRODID:-//hacksw/handcal//NONSGML v1.0//EN
BEGIN:VEVENT
DTSTAMP:20240206T003000Z
DTSTART:20240206T003000Z
DTEND:20240206T023000Z

SUMMARY:Brooklyn Nets vs. Golden State Warriors
DESCRIPTION:The Brooklyn Nets take on the Golden State Warriors on Monday, February 5.
END:VEVENT
END:VCALENDAR