BEGIN:VCALENDAR
VERSION:2.0
PRODID:-//hacksw/handcal//NONSGML v1.0//EN
BEGIN:VEVENT
DTSTAMP:20240127T230000Z
DTSTART:20240127T230000Z
DTEND:20240128T010000Z

SUMMARY:Brooklyn Nets vs. Houston Rockets
DESCRIPTION:The Brooklyn Nets take on the Houston Rockets on Saturday, January 27.
END:VEVENT
END:VCALENDAR