BEGIN:VCALENDAR
VERSION:2.0
PRODID:-//hacksw/handcal//NONSGML v1.0//EN
BEGIN:VEVENT
DTSTAMP:20200325T230000Z
DTSTART:20200325T230000Z
DTEND:20200326T010000Z

SUMMARY:Brooklyn Nets vs. LA Clippers
DESCRIPTION:Brooklyn Nets take on the LA Clippers on Wednesday, March 25.
END:VEVENT
END:VCALENDAR