BEGIN:VCALENDAR
VERSION:2.0
PRODID:-//hacksw/handcal//NONSGML v1.0//EN
BEGIN:VEVENT
DTSTAMP:20240116T003000Z
DTSTART:20240116T003000Z
DTEND:20240116T023000Z

SUMMARY:Brooklyn Nets vs. Miami Heat
DESCRIPTION:The Brooklyn Nets take on the Miami Heat on Monday, January 15.
END:VEVENT
END:VCALENDAR