BEGIN:VCALENDAR
VERSION:2.0
PRODID:-//hacksw/handcal//NONSGML v1.0//EN
BEGIN:VEVENT
DTSTAMP:20251214T230000Z
DTSTART:20251214T230000Z
DTEND:20251215T020000Z

SUMMARY:Brooklyn Nets vs. Milwaukee Bucks
DESCRIPTION:The Brooklyn Nets take on the Milwaukee Bucks on Sunday, December 14.
END:VEVENT
END:VCALENDAR