BEGIN:VCALENDAR
VERSION:2.0
PRODID:-//hacksw/handcal//NONSGML v1.0//EN
BEGIN:VEVENT
DTSTAMP:20240126T003000Z
DTSTART:20240126T003000Z
DTEND:20240126T023000Z

SUMMARY:Brooklyn Nets vs. Minnesota Timberwolves
DESCRIPTION:The Brooklyn Nets take on the Minnesota Timberwolves on Thursday, January 25.
END:VEVENT
END:VCALENDAR