BEGIN:VCALENDAR
VERSION:2.0
PRODID:-//hacksw/handcal//NONSGML v1.0//EN
BEGIN:VEVENT
DTSTAMP:20161109T003000Z
DTSTART:20161109T003000Z
DTEND:20161109T023000Z

SUMMARY:Brooklyn Nets vs. Minnesota Timberwolves
DESCRIPTION:Make your dinner reservations today by calling 917.618.6340 or emailing 4040club@levyrestaurants.com.For information on individual suites, please call 718.BK.SUITE.
END:VEVENT
END:VCALENDAR