BEGIN:VCALENDAR
VERSION:2.0
PRODID:-//hacksw/handcal//NONSGML v1.0//EN
BEGIN:VEVENT
DTSTAMP:20240124T003000Z
DTSTART:20240124T003000Z
DTEND:20240124T023000Z

SUMMARY:Brooklyn Nets vs. New York Knicks
DESCRIPTION:The Brooklyn Nets take on the New York Knicks on Tuesday, January 23.
END:VEVENT
END:VCALENDAR