BEGIN:VCALENDAR
VERSION:2.0
PRODID:-//hacksw/handcal//NONSGML v1.0//EN
BEGIN:VEVENT
DTSTAMP:20121127T000000Z
DTSTART:20121127T000000Z
DTEND:20121127T020000Z

SUMMARY:Brooklyn Nets vs New York Knicks
DESCRIPTION:Mayor Bloomberg recommended to the NBA that after further assessments of the damage caused by Hurricane Sandy, he felt it was in the best interests of New York City for the NBA to reschedule the Brooklyn Nets-New York Knicks game scheduled for November 1. As a result, the game has been rescheduled for  Monday, November 26th at 7 p.m. Tickets for the November 1 game will be honored for the rescheduled game. 
END:VEVENT
END:VCALENDAR