BEGIN:VCALENDAR
VERSION:2.0
PRODID:-//hacksw/handcal//NONSGML v1.0//EN
BEGIN:VEVENT
DTSTAMP:20221129T003000Z
DTSTART:20221129T003000Z
DTEND:20221129T023000Z

SUMMARY:Brooklyn Nets vs. Orlando Magic
DESCRIPTION:Brooklyn Nets take on the Orlando Magic on Monday, November 28.
END:VEVENT
END:VCALENDAR