BEGIN:VCALENDAR
VERSION:2.0
PRODID:-//hacksw/handcal//NONSGML v1.0//EN
BEGIN:VEVENT
DTSTAMP:20240201T013000Z
DTSTART:20240201T013000Z
DTEND:20240201T033000Z

SUMMARY:Brooklyn Nets vs. Phoenix Suns
DESCRIPTION:The Brooklyn Nets take on the Phoenix Suns on Wednesday, January 31.
END:VEVENT
END:VCALENDAR