BEGIN:VCALENDAR
VERSION:2.0
PRODID:-//hacksw/handcal//NONSGML v1.0//EN
BEGIN:VEVENT
DTSTAMP:20260120T003000Z
DTSTART:20260120T003000Z
DTEND:20260120T023000Z

SUMMARY:Brooklyn Nets vs. Phoenix Suns
DESCRIPTION:The Brooklyn Nets take on the Phoenix Suns on Monday, January 19.
END:VEVENT
END:VCALENDAR