BEGIN:VCALENDAR
VERSION:2.0
PRODID:-//hacksw/handcal//NONSGML v1.0//EN
BEGIN:VEVENT
DTSTAMP:20240407T233000Z
DTSTART:20240407T233000Z
DTEND:20240408T013000Z

SUMMARY:Brooklyn Nets vs. Sacramento Kings
DESCRIPTION:The Brooklyn Nets take on the Sacramento Kings on Sunday, April 7.
END:VEVENT
END:VCALENDAR