BEGIN:VCALENDAR
VERSION:2.0
PRODID:-//hacksw/handcal//NONSGML v1.0//EN
BEGIN:VEVENT
DTSTAMP:20240210T230000Z
DTSTART:20240210T230000Z
DTEND:20240211T010000Z

SUMMARY:Brooklyn Nets vs. San Antonio Spurs
DESCRIPTION:The Brooklyn Nets take on the San Antonio Spurs on Saturday, February 10.
END:VEVENT
END:VCALENDAR