BEGIN:VCALENDAR
VERSION:2.0
PRODID:-//hacksw/handcal//NONSGML v1.0//EN
BEGIN:VEVENT
DTSTAMP:20240130T003000Z
DTSTART:20240130T003000Z
DTEND:20240130T023000Z

SUMMARY:Brooklyn Nets vs. Utah Jazz
DESCRIPTION:The Brooklyn Nets take on the Utah Jazz on Monday, January 29.
END:VEVENT
END:VCALENDAR