BEGIN:VCALENDAR
VERSION:2.0
PRODID:-//hacksw/handcal//NONSGML v1.0//EN
BEGIN:VEVENT
DTSTAMP:20121231T000000Z
DTSTART:20121231T000000Z
DTEND:20121231T030000Z

SUMMARY:Coldplay
DESCRIPTION:Coldplay will perform at Barclays Center on December 30. Naturally 7 will be the supporting act. The two year-end performances mark Coldplay’s only remaining U.S. shows for 2012.
END:VEVENT
END:VCALENDAR