BEGIN:VCALENDAR
VERSION:2.0
PRODID:-//hacksw/handcal//NONSGML v1.0//EN
BEGIN:VEVENT
DTSTAMP:20260130T000000Z
DTSTART:20260130T000000Z
DTEND:20260130T020000Z

SUMMARY:Disney On Ice
DESCRIPTION:Disney On Ice presents Mickey&#39;s Search Party comes to Brooklyn for 9 shows from January 29 - February 1.Celebrate Disney magic at Disney On Ice presents Mickey’s Search Party, a fast-paced, family-friendly production that follows the search for Tinker Bell through stunning worlds. Explore the colorful spirit realm of Coco with Miguel, brave the ocean with Moana, marvel at Belle’s enchanted chandelier, sing with Elsa, and watch Stitch crash the action with mischievous surprises. Featuring spectacular ice skating, daring aerial stunts, and memorable moments from Aladdin, Toy Story, and The Little Mermaid, this all-out celebration delivers nonstop music, mischief, and memories.
END:VEVENT
END:VCALENDAR