BEGIN:VCALENDAR
VERSION:2.0
PRODID:-//hacksw/handcal//NONSGML v1.0//EN
BEGIN:VEVENT
DTSTAMP:20241112T003000Z
DTSTART:20241112T003000Z
DTEND:20241112T033000Z

SUMMARY:Don Toliver
DESCRIPTION:Don Toliver brings the Psycho Tour with Ski Mask The Slump God, Monaleo & Molly Santana to Brooklyn on November 11.
END:VEVENT
END:VCALENDAR