BEGIN:VCALENDAR
VERSION:2.0
PRODID:-//hacksw/handcal//NONSGML v1.0//EN
BEGIN:VEVENT
DTSTAMP:20241005T233000Z
DTSTART:20241005T233000Z
DTEND:20241006T013000Z

SUMMARY:Gold Over America Tour
DESCRIPTION:Join the excitement at the Athleta Presents Gold Over America Tour, starring Simone Biles and America’s best gymnasts, in Brooklyn on Saturday, October 5. This celebration of world-class gymnastics is designed to inspire the next generation of champions. Led by Biles, the most decorated gymnast of all time,  Athleta Presents Gold Over America Tour (GOAT) delivers an exhilarating display of jaw-dropping athletic brilliance and high-energy choreography. Every tumble, twist, and gravity-defying trick will have audiences on the edge of their seats.
END:VEVENT
END:VCALENDAR