BEGIN:VCALENDAR
VERSION:2.0
PRODID:-//hacksw/handcal//NONSGML v1.0//EN
BEGIN:VEVENT
DTSTAMP:20230714T232500Z
DTSTART:20230714T232500Z
DTEND:20230715T012500Z

SUMMARY:ILLENIUM
DESCRIPTION:ILLENIUM comes to Brooklyn with SVDDEN DEATH, William Black & Annika Wells on Friday, July 14
END:VEVENT
END:VCALENDAR