BEGIN:VCALENDAR
VERSION:2.0
PRODID:-//hacksw/handcal//NONSGML v1.0//EN
BEGIN:VEVENT
DTSTAMP:20171023T233000Z
DTSTART:20171023T233000Z
DTEND:20171024T023000Z

SUMMARY:Imagine Dragons 
DESCRIPTION:Multi-platinum, Grammy Award-winning band Imagine Dragons will bring its electrifying live show to Barclays Center on Monday, October 23 with the Evolve Tour along with Grouplove and K.Flay.*The band’s tour stop will support their forthcoming third album release, Evolve, coming out on June 23.Parm, an acclaimed casual Italian restaurant, is the perfect place to start your Barclays Center experience. Make your dinner reservation for Parm by calling 917.618.6340 or online through RESERVE.For hotel information, please visit New York Marriott at the Brooklyn Bridge. For special rates, check “corporate/promotional code” and then enter W85.*Special guests are subject to change
END:VEVENT
END:VCALENDAR