BEGIN:VCALENDAR
VERSION:2.0
PRODID:-//hacksw/handcal//NONSGML v1.0//EN
BEGIN:VEVENT
DTSTAMP:20130301T003000Z
DTSTART:20130301T003000Z
DTEND:20130301T023000Z

SUMMARY:Itzhak Perlman/Cantor Helfgot  
DESCRIPTION:* SEPARATE SEATING AND GROUP TICKETS AVAILABLE. PLEASE CONTACT THE BARCLAYS CENTER GROUP SALES DEPARTMENT AT 855.GROUP.BKREGISTER  AT THE EL AL AIRLINES USA TABLE AT BARCLAYS CENTER DURING THE ITZAHAK PERLMAN & CANTOR HELFGOT CONCERT THIS THURSDAY AT 7:30PM FOR A CHANCE TO WIN 2 ROUNDTRIP TICKETS TO ISRAELFOR OFFICIAL RULES CLICK HERE: OFFICIAL RULES AND REGULATIONSLegendary violinist Itzhak Perlman will bring his soulful sound to Brooklyn with a major performance at Cushman & Wakefield Theater at Barclays Center on Thursday, February 28 at 7:30 p.m. Perlman will be joined on stage by Brooklyn-based Cantor Yitzchak Meir Helfgot, a world-renowned tenor who has led the revival of Jewish liturgical music. Perlman and Helfgot recently collaborated on the album Eternal Echoes: Songs and Dances for the Soul, which Perlman refers to as “Jewish comfort music.”Proceeds from the concert, which is presented by Barclays Center developer and majority owner Bruce Ratner, is in support of the Met Council and The Perlman Music Program.Click here for additional Group Tickets information.var ebVenueID = '1288';//
END:VEVENT
END:VCALENDAR