BEGIN:VCALENDAR
VERSION:2.0
PRODID:-//hacksw/handcal//NONSGML v1.0//EN
BEGIN:VEVENT
DTSTAMP:20250331T000000Z
DTSTART:20250331T000000Z
DTEND:20250331T020000Z

SUMMARY:J Balvin
DESCRIPTION:J Balvin brings the Back To The Rayo tour to Brooklyn on March 30.
END:VEVENT
END:VCALENDAR