BEGIN:VCALENDAR
VERSION:2.0
PRODID:-//hacksw/handcal//NONSGML v1.0//EN
BEGIN:VEVENT
DTSTAMP:20211003T000000Z
DTSTART:20211003T000000Z
DTEND:20211003T020000Z

SUMMARY:J. Cole
DESCRIPTION:J. Cole visits Brooklyn with 21 Savage and special guest Morray on October 2, 2021.Guests have the option to receive the first shot of the Pfizer vaccine at the arena at the Barclays Center Pop-Up Vaccination Site, open on the day of the show from noon to 8:00pm, located at 185 Flatbush Ave. The vaccine is free and no insurance is required.To view our health and safety regulations, click here.
END:VEVENT
END:VCALENDAR