BEGIN:VCALENDAR
VERSION:2.0
PRODID:-//hacksw/handcal//NONSGML v1.0//EN
BEGIN:VEVENT
DTSTAMP:20240218T010000Z
DTSTART:20240218T010000Z
DTEND:20240218T030000Z

SUMMARY:Joker Xue
DESCRIPTION:Joker Xue brings the "EXTRATERRESTRIAL" WORLD TOUR to Brooklyn on Saturday, February 17.
END:VEVENT
END:VCALENDAR