BEGIN:VCALENDAR
VERSION:2.0
PRODID:-//hacksw/handcal//NONSGML v1.0//EN
BEGIN:VEVENT
DTSTAMP:20150710T023000Z
DTSTART:20150710T023000Z
DTEND:20150710T053000Z

SUMMARY:Kevin Hart
DESCRIPTION:Superstar entertainer, actor and comedian, Kevin Hart, is bringing his WHAT NOW? Tour to Barclays Center this Thursday, July 9 for two shows at 7PM & 10:30PM! Kevin Hart is one of comedy&#39;s biggest stars with a celebrated and award-winning career that has seen the talented entertainer become one of the industry&#39;s most important and influential voices.Purchase your tickets today at ticketmaster.com, by calling 800.745.3000 or by visiting the American Express Box Office at Barclays Center. For information on individual suites, please call 718-BK-SUITE.Tour Camera and Photo PolicyNo cell phones or cameras are allowed during Kevin Hart’s show. If your cell phone is used for any reason during the show, you are subject to ejection. This is a strict tour policy that is enforced.Ticket holders, please be advised there will be strict cell phone policy for this event. The below behavior is prohibited and will result in immediate ejection.Use of your cell phoneTextingTweetingTalkingCamerasRecording devices of any kind…Make your dinner reservations today by calling 917.618.6340 or emailing 4040club@Levyrestaurants.com.Click Here to see the event menu at the 40/40 CLUB & Restaurant by American Express. 
END:VEVENT
END:VCALENDAR