BEGIN:VCALENDAR
VERSION:2.0
PRODID:-//hacksw/handcal//NONSGML v1.0//EN
BEGIN:VEVENT
DTSTAMP:20240210T010000Z
DTSTART:20240210T010000Z
DTEND:20240210T030000Z

SUMMARY:Ladies Night R&B Super Jam
DESCRIPTION:Ladies Night R&B Super Jam featuring Jodeci, Faith Evans, Robin Thicke, Brian McKnight, Kenny Lattimore, Silk & The Lox*comes to Brooklyn on Friday, February 9.*Lineup is subject to change without notice.
END:VEVENT
END:VCALENDAR