BEGIN:VCALENDAR
VERSION:2.0
PRODID:-//hacksw/handcal//NONSGML v1.0//EN
BEGIN:VEVENT
DTSTAMP:20230505T230000Z
DTSTART:20230505T230000Z
DTEND:20230506T020000Z

SUMMARY:Legendz Of The Streetz
DESCRIPTION:The Legendz Of The Streetz concert on Saturday, April 22, 2023 has been rescheduled to Friday, May 5, 2023.*Any tickets held for the show on April 22, 2023 will automatically be valid for the rescheduled date on May 5, 2023. No additional action by ticket holders is required.
END:VEVENT
END:VCALENDAR