BEGIN:VCALENDAR
VERSION:2.0
PRODID:-//hacksw/handcal//NONSGML v1.0//EN
BEGIN:VEVENT
DTSTAMP:20251214T010000Z
DTSTART:20251214T010000Z
DTEND:20251214T030000Z

SUMMARY:mgk
DESCRIPTION:mgk brings the lost americana tour with Julia Wolf to Brooklyn on Saturday, December 13.
END:VEVENT
END:VCALENDAR