BEGIN:VCALENDAR
VERSION:2.0
PRODID:-//hacksw/handcal//NONSGML v1.0//EN
BEGIN:VEVENT
DTSTAMP:20220910T233000Z
DTSTART:20220910T233000Z
DTEND:20220911T013000Z

SUMMARY:My Chemical Romance
DESCRIPTION:My Chemical Romance visits Brooklyn on September 10, with Thursday and Badflower, and September 11, with Thursday and The Lemon Twigs.The September 11 show was rescheduled from September 17, 2020. All tickets will be honored but patrons must link their account to SeatGeek for entry. Link here. More information can be found here 
END:VEVENT
END:VCALENDAR