BEGIN:VCALENDAR
VERSION:2.0
PRODID:-//hacksw/handcal//NONSGML v1.0//EN
BEGIN:VEVENT
DTSTAMP:20140626T230000Z
DTSTART:20140626T230000Z
DTEND:20140627T020000Z

SUMMARY:NBA Draft 2014
DESCRIPTION:NBA fans are now able to purchase tickets for NBA Draft 2014 presented by State Farm in Brooklyn. Barclays Center, the home of the Brooklyn Nets, will host the NBA Draft 2014 presented by State Farm on June 26 at 7 p.m.Tickets are priced at $15, $20 and $35 and are available through Ticketmaster by visiting www.ticketmaster.com, or by calling 800-745-3000. Tickets are also available at the American Express Box Office at Barclays Center.The NBA Draft became a public event in 1979, and was held in various venues in New York City through 1991. It was held in Portland in 1992, followed by Detroit (1993), Indianapolis (1994), Toronto (1995), East Rutherford, N.J. (1996), Charlotte (1997), Vancouver (1998), Washington D.C. (1999), Minneapolis (2000), New York (2001-2010), Newark (2011-2012) and Brooklyn (2013-2014).The NBA Draft 2014 presented by State Farm will air live on ESPN and ESPN Radio. 
END:VEVENT
END:VCALENDAR