BEGIN:VCALENDAR
VERSION:2.0
PRODID:-//hacksw/handcal//NONSGML v1.0//EN
BEGIN:VEVENT
DTSTAMP:20160409T233000Z
DTSTART:20160409T233000Z
DTEND:20160410T013000Z

SUMMARY:New York Islanders vs. Buffalo Sabres
DESCRIPTION:LIRR Train Time AppDownload the LIRR Train Time app to get real-time information. Pick your station, check a countdown to your train&#39;s arrival and easily search for your destination. Basic train information is available even without cellular service.Download the Metro-North AppLIRR SchedulePlan your trip to Barclays Center with a quick search of the schedule online.View ScheduleLIRR Schedule UpdatesBefore you leave Barclays Center, check our screens in the arena&#39;s main concourse for the latest information on LIRR schedules and service alerts.LIRR Expanded ServiceThe Long Island Rail Road has enhanced service to make Islanders games in Brooklyn easily accessible for fans from Long Island.View DetailsFor hotel information, please visit New York Marriott at the Brooklyn Bridge. For special rates, check “corporate/promotional code” and then enter W85.
END:VEVENT
END:VCALENDAR