BEGIN:VCALENDAR
VERSION:2.0
PRODID:-//hacksw/handcal//NONSGML v1.0//EN
BEGIN:VEVENT
DTSTAMP:20230919T230000Z
DTSTART:20230919T230000Z
DTEND:20230920T010000Z

SUMMARY:New York Liberty vs. Washington Mystics
DESCRIPTION:New York Liberty take on the Washington Mystics on Friday, September 19.
END:VEVENT
END:VCALENDAR