BEGIN:VCALENDAR
VERSION:2.0
PRODID:-//hacksw/handcal//NONSGML v1.0//EN
BEGIN:VEVENT
DTSTAMP:20230705T230000Z
DTSTART:20230705T230000Z
DTEND:20230706T010000Z

SUMMARY:New York Liberty vs. Phoenix Mercury
DESCRIPTION:New York Liberty take on the Phoenix Mercury on Wednesday, July 5.
END:VEVENT
END:VCALENDAR