BEGIN:VCALENDAR
VERSION:2.0
PRODID:-//hacksw/handcal//NONSGML v1.0//EN
BEGIN:VEVENT
DTSTAMP:20230708T180000Z
DTSTART:20230708T180000Z
DTEND:20230708T200000Z

SUMMARY:New York Liberty vs. Seattle Storm
DESCRIPTION:New York Liberty take on the Seattle Storm on Saturday, July 8.
END:VEVENT
END:VCALENDAR