BEGIN:VCALENDAR
VERSION:2.0
PRODID:-//hacksw/handcal//NONSGML v1.0//EN
BEGIN:VEVENT
DTSTAMP:20260629T000000Z
DTSTART:20260629T000000Z
DTEND:20260629T020000Z

SUMMARY:Nick Cannon Presents Wild ‘N Out Live No Filter
DESCRIPTION:Nick Cannon Presents Wild ‘N Out Live No Filter with Tim Chantarangsu, Michael Blackson, Rip Micheals, Maddy Smith, Jacob Williams, Justina Valentine, Conceited, Frak, Big Mack, Lovely Mimi, B. Simone, Pretty Vee, Zoie, Emanuel Hudson, & DJ D-Wrek in Brooklyn on June 28.
END:VEVENT
END:VCALENDAR