BEGIN:VCALENDAR
VERSION:2.0
PRODID:-//hacksw/handcal//NONSGML v1.0//EN
BEGIN:VEVENT
DTSTAMP:20260910T000000Z
DTSTART:20260910T000000Z
DTEND:20260910T030000Z

SUMMARY:Omar Courtz
DESCRIPTION:Omar Courtz brings the POR SI MAÑANA NO ESTOY USA TOUR to Brooklyn on September 9.
END:VEVENT
END:VCALENDAR