BEGIN:VCALENDAR
VERSION:2.0
PRODID:-//hacksw/handcal//NONSGML v1.0//EN
BEGIN:VEVENT
DTSTAMP:20171026T230000Z
DTSTART:20171026T230000Z
DTEND:20171027T010000Z

SUMMARY:Powerhouse 2017
DESCRIPTION:iHeart Media’s Power 105.1, Home of The Breakfast Club and Angie Martinez, New York’s Hip Hop and R&B, brings Powerhouse 2017 back to Barclays Center for the fourth consecutive year on Thursday, October 26. This year’s star-studded lineup includes The Weeknd, Migos, Lil Uzi Vert, Cardi B, French Montana, DJ Envy & Friends and more.*Parm, an acclaimed casual Italian restaurant, is the perfect place to start your Barclays Center experience. Make your dinner reservation for Parm by calling 917.618.6340 or online through RESERVE.For hotel information, please visit New York Marriott at the Brooklyn Bridge. For special rates, check “corporate/promotional code” and then enter W85.*Artists are subject to change.
END:VEVENT
END:VCALENDAR